BEGIN:VCALENDAR
VERSION:2.0
PRODID:-//Beleef het in Makkum! - ECPv6.15.20//NONSGML v1.0//EN
CALSCALE:GREGORIAN
METHOD:PUBLISH
X-WR-CALNAME:Beleef het in Makkum!
X-ORIGINAL-URL:https://www.inmakkum.nl
X-WR-CALDESC:Evenementen voor Beleef het in Makkum!
REFRESH-INTERVAL;VALUE=DURATION:PT1H
X-Robots-Tag:noindex
X-PUBLISHED-TTL:PT1H
BEGIN:VTIMEZONE
TZID:Europe/Amsterdam
BEGIN:DAYLIGHT
TZOFFSETFROM:+0100
TZOFFSETTO:+0200
TZNAME:CEST
DTSTART:20250330T010000
END:DAYLIGHT
BEGIN:STANDARD
TZOFFSETFROM:+0200
TZOFFSETTO:+0100
TZNAME:CET
DTSTART:20251026T010000
END:STANDARD
BEGIN:DAYLIGHT
TZOFFSETFROM:+0100
TZOFFSETTO:+0200
TZNAME:CEST
DTSTART:20260329T010000
END:DAYLIGHT
BEGIN:STANDARD
TZOFFSETFROM:+0200
TZOFFSETTO:+0100
TZNAME:CET
DTSTART:20261025T010000
END:STANDARD
BEGIN:DAYLIGHT
TZOFFSETFROM:+0100
TZOFFSETTO:+0200
TZNAME:CEST
DTSTART:20270328T010000
END:DAYLIGHT
BEGIN:STANDARD
TZOFFSETFROM:+0200
TZOFFSETTO:+0100
TZNAME:CET
DTSTART:20271031T010000
END:STANDARD
END:VTIMEZONE
BEGIN:VEVENT
DTSTART;TZID=Europe/Amsterdam:20260205T143000
DTEND;TZID=Europe/Amsterdam:20261203T163000
DTSTAMP:20260422T022906
CREATED:20260105T105009Z
LAST-MODIFIED:20260105T110054Z
UID:5466-1770301800-1796315400@www.inmakkum.nl
SUMMARY:Creatief Café Makkum: handwerken voor Gambia
DESCRIPTION:Bibliotheek Makkum heeft een grote zak garen ontvangen\, perfect om samen te gebruiken voor het goede doel! We haken en breien mutsjes en dekentjes voor ‘Rescue Baby Gambia’. Dit goede doel is in 2012 opgericht door een betrokken kraamverzorgende nadat zij een bezoek bracht aan diverse ziekenhuizen in Gambia. De organisatie ondersteunt moeder en kind met kraampakketten\, kraammaterialen en handgemaakte mutsjes of dekentjes. \nDoe mee en help ons creëren voor een beter begin voor baby’s in Gambia. Iedere eerste donderdag van de maand ben je welkom bij het Creatief Café om samen met elkaar aan dit project te werken. Patronen en garen liggen klaar\, koffie en thee ook!
URL:https://www.inmakkum.nl/event/creatief-cafe-makkum-handwerken-voor-gambia/
LOCATION:Vismigratierivier\, Plein\, Makkum\, Friesland\, 8754\, Nederland
CATEGORIES:Mode,Sessie
ATTACH;FMTTYPE=image/jpeg:https://www.inmakkum.nl/wp-content/uploads/2026/01/top-view-knitting-needles-wool-cap-1-lage-kwali_1227681892.jpg
END:VEVENT
BEGIN:VEVENT
DTSTART;TZID=Europe/Amsterdam:20260414T133000
DTEND;TZID=Europe/Amsterdam:20260929T144500
DTSTAMP:20260422T022906
CREATED:20260309T095808Z
LAST-MODIFIED:20260309T100456Z
UID:5572-1776173400-1790693100@www.inmakkum.nl
SUMMARY:Rondvaarten Makkum
DESCRIPTION:Rondvaarten op de dinsdag en donderdag met de pream “Lois” door de vaarten en slootjes van Makkum en weide omgeving. De tocht duurt iets langer dan een uur. \nVanaf het water kun je heerlijk genieten van de prachtige omgeving van Makkum. Je vaart met een praam (open boot) over de binnenwateren. De praam is voorzien van banken aan weerszijden en tafeltjes in het midden. De bemanning van de Lois bestaat uit enthousiaste vrijwilligers. Zij zorgen voor een ontspannen sfeer aan boord en vertellen graag wat er te zien is onderweg. Tevens is er een informatieboek aan boord met daarin veel informatie over de vaarroutes en bezienswaardigheden in de omgeving. \nNaast deze opstapmomenten kun je ook groepsarrangementen boeken. Zoals een familiedag\, personeelsuitje\, vrijgezellenfeest o.i.d. Catering is in overleg mogelijk\, evenals het onderweg aanleggen voor het bekende Friese fierljeppen of andere Oudhollandse spelletjes. Neem hiervoor contact op met Stichting It Preamke via rene@taxivanderbles.nl. \nActuele vaartijden\nBekijk de website van Waterland van Friesland voor actuele vaartijden: waterlandvanfriesland.nl \nLigging\nOpstapplaats: Turfmarkt 33\, 8754 CH\, Makkum. Parkeren kan aan de Turfmarkt aan het water of op de Markt. \nBelangrijk om te weten\nGraag 15 minuten voor vertrek aanwezig zijn. Je mag eventueel zelf eten en drinken meenemen. Bij slecht weer adviseren we om warme kleding aan te trekken. Bij minder dan 10 personen wordt de route aangepast. \nVoor de rolstoelgebruikers. Het is mogelijk om mee te varen\, maar graag eerst even telefonisch contact zodat er rekening mee gehouden kan worden. Bellen kan naar 0655784959. Honden zijn ook welkom. Maar hiervoor geldt ook: vermeld dit van te voren nog even.
URL:https://www.inmakkum.nl/event/rondvaarten-makkum/
LOCATION:Vismigratierivier\, Plein\, Makkum\, Friesland\, 8754\, Nederland
CATEGORIES:Rondvaart
ATTACH;FMTTYPE=image/jpeg:https://www.inmakkum.nl/wp-content/uploads/2026/03/d1914d02182ba5ccd255e70ae70630bdf7475272_019ccf84-42b0-7e82-8d51-2858c7eef448.jpg
END:VEVENT
BEGIN:VEVENT
DTSTART;TZID=Europe/Amsterdam:20260416T000000
DTEND;TZID=Europe/Amsterdam:20260514T000000
DTSTAMP:20260422T022906
CREATED:20260413T115628Z
LAST-MODIFIED:20260413T121404Z
UID:5602-1776297600-1778716800@www.inmakkum.nl
SUMMARY:Introductie les wingfoil
DESCRIPTION:De introductieles wingfoil begint om 14:00. Tijdens deze les krijg je een korte uitleg over de basis en ga je het materiaal zelf uitproberen. \nJe ontvangt een paar handige tips om snel gevoel te krijgen voor het wingfoilen. Het belangrijkste doel van deze les is om je enthousiast te maken en de eerste “hype” te laten ervaren! \nDe lessen vinden elke donderdagmiddag van 14.00 tot 16.00 plaats op: 16\, 23 en 30 april en 7 en 14 mei.
URL:https://www.inmakkum.nl/event/introductie-les-wingfoil/
LOCATION:Surf N Sail\, De Holle Poarte 8\, Makkum\, Friesland\, 8754 HC
CATEGORIES:Watersport
ATTACH;FMTTYPE=image/jpeg:https://www.inmakkum.nl/wp-content/uploads/2026/04/6af359e75cfb7f4dd012b59f603fc5d4b96a276c_019d7691-1de8-7a73-b343-c3ed1f6c4681.jpg
END:VEVENT
BEGIN:VEVENT
DTSTART;TZID=Europe/Amsterdam:20260422T100000
DTEND;TZID=Europe/Amsterdam:20260422T120000
DTSTAMP:20260422T022906
CREATED:20260216T164603Z
LAST-MODIFIED:20260216T165427Z
UID:5511-1776852000-1776859200@www.inmakkum.nl
SUMMARY:Kijk achter de schermen bij eendenkooi Buimanskoai bij Piaam
DESCRIPTION:Benieuwd hoe wilde eenden vroeger werden gevangen? De Buismanskoai bij Piaam aan de Friese IJsselmeerkust is een boeiend stukje cultureel erfgoed. Deze eeuwenoude eendenkooi is alleen toegankelijk met een gids van natuurorganisatie It Fryske Gea. Dus wil je letterlijk eens achter de schermen kijken\, grijp dan nu je kans! \nHet geheim van eendenkooien \nEen bomeneiland in een grote groene zee… zo ziet de voormalige eendenkooi in het open landschap bij Piaam er van een afstandje uit. In Fryslân en andere laaggelegen delen van Nederland moeten vroeger honderden van dit soort mysterieuze bosjes – met in het midden een waterplas – hebben gestaan. Eendenkooien werden in ieder geval vanaf de 15e eeuw gebruikt om wilde eenden met hulp van lokeenden en een kooikerhondje te vangen. Zodra de eenden ‘de pijp uit’ gingen werden ze als delicatesse verorberd of verkocht. Het bezitten van een eendenkooi was ooit een statussymbool van rijke Friezen: met een eendenkooi was je altijd verzekerd van verse eendenbout. \nVanginstallatie wordt natuurgebied \nEinekoaien werden van natuurlijke materialen als wilgentakken gemaakt\, zodoende dat de meeste kooien vergaan zijn. Er zijn er echter enkele bewaard gebleven\, waaronder de Buismanskoai bij Piaam\, aan de oostkant van het IJsselmeer\, vernoemd naar de laatste particuliere eigenaar van de kooi. Buisman was bestuurslid van It Fryske Gea en liet enkele eendenkooien aan de natuurvereniging na. It Fryske Gea zorgt ervoor dat het systeem van schermen en vangpijpen als cultureel erfgoed behouden blijft. Er worden tegenwoordig geen vogels meer gevangen\, het is nu een beschermd rustgebied voor watervogels en bosvogels\, daarnaast is het een levend monument van een eeuwenoud gebruik. \nVanuit de vogelkijkhut \nTijdens deze excursie bezoek je ook de plek waar de wilde eenden vroeger vandaan werden gelokt: het IJsselmeer. Vanuit vogelkijkhut De Ral zie je – zonder ze te storen – krakeenden\, knobbelzwanen\, bergeenden\, slobeenden\, lepelaars en verschillende soorten ganzen rondzwemmen. In wat water verzamelen ze hun voedsel. Soms is het water zo ondiep\, dat de wetterfûgels vergezeld worden door weidevogels als de grutto\, scholekster en kievit. \nPraktische tips van It Fryske Gea \n\nDeze culturele excursie duurt ongeveer 2 uren.\nJe legt in totaal ongeveer 2 kilometer af.\nDe excursie is alleen geschikt voor mensen die goed ter been zijn omdat je door een weiland moet lopen om bij de eendenkooi te komen.\nIn het weiland kan het gras hoog en nat zijn\, dus trek laarzen of stevige schoenen.\nTrek voldoende laagjes kleding aan. Want je weet: er bestaat geen slecht weer\, alleen slechte kleding!\nDeelname is op eigen risico: je kunt natuur-verslaafd raken!
URL:https://www.inmakkum.nl/event/kijk-achter-de-schermen-bij-eendenkooi-buimanskoai-bij-piaam/
LOCATION:Vismigratierivier\, Plein\, Makkum\, Friesland\, 8754\, Nederland
CATEGORIES:Wandeltocht
ATTACH;FMTTYPE=image/jpeg:https://www.inmakkum.nl/wp-content/uploads/2026/02/0df049a5ae3f225d0e4defdd3807d0f037da4e61_019c35a5-e10b-7b19-b611-897b6051ee5b.jpg
END:VEVENT
END:VCALENDAR